BEGIN:VCALENDAR
VERSION:2.0
PRODID:-//Reynard Street Neighbourhood House - ECPv4.9.6//NONSGML v1.0//EN
CALSCALE:GREGORIAN
METHOD:PUBLISH
X-WR-CALNAME:Reynard Street Neighbourhood House
X-ORIGINAL-URL:https://rsnh.org.au
X-WR-CALDESC:Events for Reynard Street Neighbourhood House
BEGIN:VTIMEZONE
TZID:"UTC"
BEGIN:STANDARD
TZOFFSETFROM:+0000
TZOFFSETTO:+0000
TZNAME:UTC
DTSTART:20200101T000000
END:STANDARD
END:VTIMEZONE
BEGIN:VEVENT
DTSTART;TZID="UTC":20200225T130000
DTEND;TZID="UTC":20200225T160000
DTSTAMP:20210228T131337
CREATED:20200219T013324Z
LAST-MODIFIED:20200219T013324Z
UID:2790-1582635600-1582646400@rsnh.org.au
SUMMARY:Introduction to Coffee Making
DESCRIPTION:Learn the basics of how to make coffee using a commercial machine. Practice making espressos\, cappuccinos and lattes\, set up and clean up your workspace. A perfect introduction for those looking for work in a cafe. \n
URL:https://rsnh.org.au/event/introduction-to-coffee-making/
LOCATION:Reynard Street Community House\, 104A Reynard St\, Coburg\, Victoria\, 3058\, Australia
ATTACH;FMTTYPE=image/jpeg:https://rsnh.org.au/wp-content/uploads/2018/01/robinson-3.jpg
ORGANIZER;CN="Reynard%20Street%20Neighbourhood%20House":MAILTO:admin@rsnh.org.au
END:VEVENT
END:VCALENDAR