BEGIN:VCALENDAR
VERSION:2.0
PRODID:-//Reynard Street Neighbourhood House - ECPv4.9.6//NONSGML v1.0//EN
CALSCALE:GREGORIAN
METHOD:PUBLISH
X-WR-CALNAME:Reynard Street Neighbourhood House
X-ORIGINAL-URL:https://rsnh.org.au
X-WR-CALDESC:Events for Reynard Street Neighbourhood House
BEGIN:VTIMEZONE
TZID:"UTC"
BEGIN:STANDARD
TZOFFSETFROM:+0000
TZOFFSETTO:+0000
TZNAME:UTC
DTSTART:20190101T000000
END:STANDARD
END:VTIMEZONE
BEGIN:VEVENT
DTSTART;TZID="UTC":20190913T114500
DTEND;TZID="UTC":20190913T123000
DTSTAMP:20210228T140653
CREATED:20190823T040115Z
LAST-MODIFIED:20190823T040115Z
UID:2517-1568375100-1568377800@rsnh.org.au
SUMMARY:Stroke Safe Presentaton
DESCRIPTION:In Australia\, a stroke occurs every 9 minutes. That’s more than 56\,000 strokes every year across people of all ages\, and the impacts last a lifetime. But did you know strokes can be prevented? \nThe Stroke Foundation is holding a free information session to give our community the opportunity to learn; \n\nWhat a stroke is and how to recognise it\nWhat to do if someone is having a stroke\nHow to prevent a stroke\n\nFor more information or to register \nCall: 9386 7128 \nEmail: admin@rsnh.org.au \n
URL:https://rsnh.org.au/event/stroke-safe-presentaton/
LOCATION:Reynard Street Community House\, 104A Reynard St\, Coburg\, Victoria\, 3058\, Australia
ATTACH;FMTTYPE=image/jpeg:https://rsnh.org.au/wp-content/uploads/2019/08/Stroke-Foundation_RGB.jpg
ORGANIZER;CN="Reynard%20Street%20Neighbourhood%20House":MAILTO:admin@rsnh.org.au
END:VEVENT
BEGIN:VEVENT
DTSTART;TZID="UTC":20190913T123000
DTEND;TZID="UTC":20190913T140000
DTSTAMP:20210228T140653
CREATED:20190129T034851Z
LAST-MODIFIED:20190730T005514Z
UID:1266-1568377800-1568383200@rsnh.org.au
SUMMARY:Community Lunch at RSNH
DESCRIPTION:Reynard Street Neighbourhood House is hosting Community Lunches every Friday this term!\nCome and join us for FREE lunch. Through our partners\, Open Table and Correctional Services\, rescued and surplus food is used to make a delicious and healthy feast for everyone to enjoy. \nVisit our Facebook page for more information. \nCall: 9386 7128 \nEmail: admin@rsnh.org.au \nVisit: 104A Reynard Street\, Coburg \n
URL:https://rsnh.org.au/event/community-lunch-at-rsnh-3/
LOCATION:Reynard Street Community House\, 104A Reynard St\, Coburg\, Victoria\, 3058\, Australia
ATTACH;FMTTYPE=image/jpeg:https://rsnh.org.au/wp-content/uploads/2019/01/20181115_104650.jpg
ORGANIZER;CN="Reynard%20Street%20Neighbourhood%20House":MAILTO:admin@rsnh.org.au
END:VEVENT
END:VCALENDAR