BEGIN:VCALENDAR
VERSION:2.0
PRODID:-//Reynard Street Neighbourhood House - ECPv4.9.6//NONSGML v1.0//EN
CALSCALE:GREGORIAN
METHOD:PUBLISH
X-WR-CALNAME:Reynard Street Neighbourhood House
X-ORIGINAL-URL:https://rsnh.org.au
X-WR-CALDESC:Events for Reynard Street Neighbourhood House
BEGIN:VTIMEZONE
TZID:"UTC"
BEGIN:STANDARD
TZOFFSETFROM:+0000
TZOFFSETTO:+0000
TZNAME:UTC
DTSTART:20190101T000000
END:STANDARD
END:VTIMEZONE
BEGIN:VEVENT
DTSTART;TZID="UTC":20190905T090000
DTEND;TZID="UTC":20190905T233000
DTSTAMP:20210228T140442
CREATED:20190730T045903Z
LAST-MODIFIED:20190730T051859Z
UID:2106-1567674000-1567726200@rsnh.org.au
SUMMARY:English Conversation and Ceramics Workshop - Adult Learners Week
DESCRIPTION:Join our Conversation group to develop your English Language skills or to experience an innovative EAL class while getting creative with ceramics. Materials provided\, bookings essential. All welcome! \n
URL:https://rsnh.org.au/event/english-conversation-and-ceramics-workshop-adult-learners-week/
LOCATION:Reynard Street Community House\, 104A Reynard St\, Coburg\, Victoria\, 3058\, Australia
ATTACH;FMTTYPE=image/jpeg:https://rsnh.org.au/wp-content/uploads/2019/07/IMG_9444-e1564462583776.jpg
ORGANIZER;CN="Reynard%20Street%20Neighbourhood%20House":MAILTO:admin@rsnh.org.au
END:VEVENT
END:VCALENDAR