BEGIN:VCALENDAR
VERSION:2.0
PRODID:-//Reynard Street Neighbourhood House - ECPv4.9.6//NONSGML v1.0//EN
CALSCALE:GREGORIAN
METHOD:PUBLISH
X-WR-CALNAME:Reynard Street Neighbourhood House
X-ORIGINAL-URL:https://rsnh.org.au
X-WR-CALDESC:Events for Reynard Street Neighbourhood House
BEGIN:VTIMEZONE
TZID:"UTC"
BEGIN:STANDARD
TZOFFSETFROM:+0000
TZOFFSETTO:+0000
TZNAME:UTC
DTSTART:20190101T000000
END:STANDARD
END:VTIMEZONE
BEGIN:VEVENT
DTSTART;TZID="UTC":20190826T130000
DTEND;TZID="UTC":20190826T160000
DTSTAMP:20210228T140158
CREATED:20190129T025751Z
LAST-MODIFIED:20190730T004423Z
UID:1252-1566824400-1566835200@rsnh.org.au
SUMMARY:Espresso Coffee Making Workshop
DESCRIPTION:Gain practical experience in espresso coffee making on our commercial barista machine. This hands-on training is perfect for anyone looking to find work in hospitality. \nBookings Required! Visit our Facebook page for more information. \nCall: 9386 7128 \nEmail: admin@rsnh.org.au \nVisit: 104A Reynard Street\, Coburg \n
URL:https://rsnh.org.au/event/espresso-coffee-making-workshop/
LOCATION:Reynard Street Community House\, 104A Reynard St\, Coburg\, Victoria\, 3058\, Australia
ATTACH;FMTTYPE=image/jpeg:https://rsnh.org.au/wp-content/uploads/2019/01/IMG_1651.jpg
ORGANIZER;CN="Reynard%20Street%20Neighbourhood%20House":MAILTO:admin@rsnh.org.au
END:VEVENT
END:VCALENDAR