BEGIN:VCALENDAR
VERSION:2.0
PRODID:-//Reynard Street Neighbourhood House - ECPv4.9.6//NONSGML v1.0//EN
CALSCALE:GREGORIAN
METHOD:PUBLISH
X-WR-CALNAME:Reynard Street Neighbourhood House
X-ORIGINAL-URL:https://rsnh.org.au
X-WR-CALDESC:Events for Reynard Street Neighbourhood House
BEGIN:VTIMEZONE
TZID:"UTC"
BEGIN:STANDARD
TZOFFSETFROM:+0000
TZOFFSETTO:+0000
TZNAME:UTC
DTSTART:20190101T000000
END:STANDARD
END:VTIMEZONE
BEGIN:VEVENT
DTSTART;TZID="UTC":20190802T123000
DTEND;TZID="UTC":20190802T140000
DTSTAMP:20210228T141447
CREATED:20190129T041152Z
LAST-MODIFIED:20190730T010214Z
UID:1280-1564749000-1564754400@rsnh.org.au
SUMMARY:Community Lunch at RSNH
DESCRIPTION:Reynard Street Neighbourhood House is hosting Community Lunches every Friday this term!\nCome and join us for FREE lunch. Through our partners\, Open Table and Correctional Services\, rescued and surplus food is used to make a delicious and healthy feast for everyone to enjoy. \nVisit our Facebook page for more information. \nCall: 9386 7128 \nEmail: admin@rsnh.org.au \nVisit: 104A Reynard Street\, Coburg \n
URL:https://rsnh.org.au/event/community-lunch-at-rsnh-10/
LOCATION:Reynard Street Community House\, 104A Reynard St\, Coburg\, Victoria\, 3058\, Australia
ATTACH;FMTTYPE=image/jpeg:https://rsnh.org.au/wp-content/uploads/2019/01/20181115_104650.jpg
ORGANIZER;CN="Reynard%20Street%20Neighbourhood%20House":MAILTO:admin@rsnh.org.au
END:VEVENT
END:VCALENDAR