BEGIN:VCALENDAR
VERSION:2.0
PRODID:-//Reynard Street Neighbourhood House - ECPv4.9.6//NONSGML v1.0//EN
CALSCALE:GREGORIAN
METHOD:PUBLISH
X-WR-CALNAME:Reynard Street Neighbourhood House
X-ORIGINAL-URL:https://rsnh.org.au
X-WR-CALDESC:Events for Reynard Street Neighbourhood House
BEGIN:VTIMEZONE
TZID:"UTC"
BEGIN:STANDARD
TZOFFSETFROM:+0000
TZOFFSETTO:+0000
TZNAME:UTC
DTSTART:20190101T000000
END:STANDARD
END:VTIMEZONE
BEGIN:VEVENT
DTSTART;TZID="UTC":20190818T120000
DTEND;TZID="UTC":20190818T140000
DTSTAMP:20210226T153222
CREATED:20190730T055522Z
LAST-MODIFIED:20190820T011629Z
UID:2109-1566129600-1566136800@rsnh.org.au
SUMMARY:Winter Warmers Soup Festival
DESCRIPTION:Come along to RSNH’s Winter Warmers Soup Festival! There will be music\, face painting\, kids craft\, coffee\, and soup.\nA $5 donation gets you unlimited soup and supports RSNH in our kitchen upgrade! \n(Visited 59 times\, 1 visits today)
URL:https://rsnh.org.au/event/winter-warmers-soup-festival/
LOCATION:Reynard Street Community House\, 104A Reynard St\, Coburg\, Victoria\, 3058\, Australia
ATTACH;FMTTYPE=image/png:https://rsnh.org.au/wp-content/uploads/2019/07/soup-fest.png
ORGANIZER;CN="Reynard%20Street%20Neighbourhood%20House":MAILTO:admin@rsnh.org.au
END:VEVENT
END:VCALENDAR