BEGIN:VCALENDAR
VERSION:2.0
PRODID:-//Reynard Street Neighbourhood House - ECPv4.9.6//NONSGML v1.0//EN
CALSCALE:GREGORIAN
METHOD:PUBLISH
X-WR-CALNAME:Reynard Street Neighbourhood House
X-ORIGINAL-URL:https://rsnh.org.au
X-WR-CALDESC:Events for Reynard Street Neighbourhood House
BEGIN:VTIMEZONE
TZID:"UTC"
BEGIN:STANDARD
TZOFFSETFROM:+0000
TZOFFSETTO:+0000
TZNAME:UTC
DTSTART:20180101T000000
END:STANDARD
END:VTIMEZONE
BEGIN:VEVENT
DTSTART;TZID="UTC":20181214T123000
DTEND;TZID="UTC":20181214T153000
DTSTAMP:20210226T152550
CREATED:20180924T054055Z
LAST-MODIFIED:20180924T054314Z
UID:1176-1544790600-1544801400@rsnh.org.au
SUMMARY:RSNH Christmas Party
DESCRIPTION:Celebrate your year at RSNH over a community lunch with other members\, staff\, students and friends. \n  \n(Visited 42 times\, 1 visits today)
URL:https://rsnh.org.au/event/rsnh-christmas-party/
ATTACH;FMTTYPE=image/jpeg:https://rsnh.org.au/wp-content/uploads/2018/09/IMG_1140.jpg
END:VEVENT
END:VCALENDAR