BEGIN:VCALENDAR
VERSION:2.0
PRODID:-//Reynard Street Neighbourhood House - ECPv4.9.6//NONSGML v1.0//EN
CALSCALE:GREGORIAN
METHOD:PUBLISH
X-WR-CALNAME:Reynard Street Neighbourhood House
X-ORIGINAL-URL:https://rsnh.org.au
X-WR-CALDESC:Events for Reynard Street Neighbourhood House
BEGIN:VTIMEZONE
TZID:"UTC"
BEGIN:STANDARD
TZOFFSETFROM:+0000
TZOFFSETTO:+0000
TZNAME:UTC
DTSTART:20180101T000000
END:STANDARD
END:VTIMEZONE
BEGIN:VEVENT
DTSTART;TZID="UTC":20181212T100000
DTEND;TZID="UTC":20181212T130000
DTSTAMP:20210226T154556
CREATED:20181102T045155Z
LAST-MODIFIED:20181102T045155Z
UID:1198-1544608800-1544619600@rsnh.org.au
SUMMARY:Playgroup Christmas Part
DESCRIPTION:It’s time to get all our playgroup families together to celebrate the festive season.\nThere’ll be a barbecue and some treats\, and a special visitor from the North Pole will be dropping in after 12pm. Hope to see you all there. \n(Visited 39 times\, 1 visits today)
URL:https://rsnh.org.au/event/playgroup-christmas-part/
LOCATION:Reynard Street Community House\, 104A Reynard St\, Coburg\, Victoria\, 3058\, Australia
ATTACH;FMTTYPE=image/jpeg:https://rsnh.org.au/wp-content/uploads/2018/11/IMG_1146.jpg
ORGANIZER;CN="Reynard%20Street%20Neighbourhood%20House":MAILTO:admin@rsnh.org.au
END:VEVENT
END:VCALENDAR