BEGIN:VCALENDAR
VERSION:2.0
PRODID:-//Reynard Street Neighbourhood House - ECPv4.9.6//NONSGML v1.0//EN
CALSCALE:GREGORIAN
METHOD:PUBLISH
X-WR-CALNAME:Reynard Street Neighbourhood House
X-ORIGINAL-URL:https://rsnh.org.au
X-WR-CALDESC:Events for Reynard Street Neighbourhood House
BEGIN:VTIMEZONE
TZID:"UTC"
BEGIN:STANDARD
TZOFFSETFROM:+0000
TZOFFSETTO:+0000
TZNAME:UTC
DTSTART:20180101T000000
END:STANDARD
END:VTIMEZONE
BEGIN:VEVENT
DTSTART;TZID="UTC":20180907T100000
DTEND;TZID="UTC":20180907T120000
DTSTAMP:20210228T125509
CREATED:20180831T050137Z
LAST-MODIFIED:20180831T050137Z
UID:1147-1536314400-1536321600@rsnh.org.au
SUMMARY:Paneer Cheese Making Workshop for Adult Learners Week
DESCRIPTION:Its Adult learners week coming up in the first week of September and we wanted to celebrate by offering a new one off class\, giving you the opportunity to try something new. Learn a great new skill and have great fun doing it. \nPaneer Cheese is a fresh cheese common in India. It is an unaged\, non-melting farmer cheese made by curdling milk with lemon juice! And we are going to teach you how to make it! \nJoin other people from our community eager to try something new. \nhttp://www.adultlearnersweek.org/events/paneer-cheese-cooking-class/ \n(Visited 62 times\, 1 visits today)
URL:https://rsnh.org.au/event/paneer-cheese-making-workshop-for-adult-learners-week/
ATTACH;FMTTYPE=image/jpeg:https://rsnh.org.au/wp-content/uploads/2018/08/Make-Paneer-Indian-Cheese-Step-7-Version-2.jpg
END:VEVENT
END:VCALENDAR