BEGIN:VCALENDAR
VERSION:2.0
PRODID:-//Reynard Street Neighbourhood House - ECPv4.9.6//NONSGML v1.0//EN
CALSCALE:GREGORIAN
METHOD:PUBLISH
X-WR-CALNAME:Reynard Street Neighbourhood House
X-ORIGINAL-URL:https://rsnh.org.au
X-WR-CALDESC:Events for Reynard Street Neighbourhood House
BEGIN:VTIMEZONE
TZID:"UTC"
BEGIN:STANDARD
TZOFFSETFROM:+0000
TZOFFSETTO:+0000
TZNAME:UTC
DTSTART:20190101T000000
END:STANDARD
END:VTIMEZONE
BEGIN:VEVENT
DTSTART;TZID="UTC":20190308T100000
DTEND;TZID="UTC":20190308T150000
DTSTAMP:20210228T124916
CREATED:20190129T030640Z
LAST-MODIFIED:20190129T033515Z
UID:1256-1552039200-1552057200@rsnh.org.au
SUMMARY:No Waste Cooking Workshop
DESCRIPTION:Learn to cook without waste! This workshop will teach you all the necessities to avoid wasteful cooking including ‘stem-to-tip’ cooking and loving your leftovers. \nBookings required! See our Facebook page for more information. \nCall: 9386 7128 \nEmail: admin@rsnh.org.au \nVisit: 104A Reynard Street\, Coburg \n(Visited 61 times\, 1 visits today)
URL:https://rsnh.org.au/event/no-waste-cooking-workshop/
LOCATION:Reynard Street Community House\, 104A Reynard St\, Coburg\, Victoria\, 3058\, Australia
ATTACH;FMTTYPE=image/jpeg:https://rsnh.org.au/wp-content/uploads/2018/07/IMG_9582.jpg
ORGANIZER;CN="Reynard%20Street%20Neighbourhood%20House":MAILTO:admin@rsnh.org.au
END:VEVENT
END:VCALENDAR