BEGIN:VCALENDAR
VERSION:2.0
PRODID:-//Reynard Street Neighbourhood House - ECPv4.9.6//NONSGML v1.0//EN
CALSCALE:GREGORIAN
METHOD:PUBLISH
X-WR-CALNAME:Reynard Street Neighbourhood House
X-ORIGINAL-URL:https://rsnh.org.au
X-WR-CALDESC:Events for Reynard Street Neighbourhood House
BEGIN:VTIMEZONE
TZID:"UTC"
BEGIN:STANDARD
TZOFFSETFROM:+0000
TZOFFSETTO:+0000
TZNAME:UTC
DTSTART:20180101T000000
END:STANDARD
END:VTIMEZONE
BEGIN:VEVENT
DTSTART;TZID="UTC":20180711T120000
DTEND;TZID="UTC":20180711T140000
DTSTAMP:20210228T132343
CREATED:20180404T034043Z
LAST-MODIFIED:20180404T034043Z
UID:620-1531310400-1531317600@rsnh.org.au
SUMMARY:NAIDOC Week celebration
DESCRIPTION:This years theme – ‘Because of her\, we can!’ – celebrating what Indigenous women have done\, and continue to do for Australia. \ncost – free \n(Visited 75 times\, 1 visits today)
URL:https://rsnh.org.au/event/naidoc-week-celebration/
ATTACH;FMTTYPE=image/jpeg:https://rsnh.org.au/wp-content/uploads/2018/04/JULY11-EVENT.jpg
END:VEVENT
END:VCALENDAR