BEGIN:VCALENDAR
VERSION:2.0
PRODID:-//Reynard Street Neighbourhood House - ECPv4.9.6//NONSGML v1.0//EN
CALSCALE:GREGORIAN
METHOD:PUBLISH
X-WR-CALNAME:Reynard Street Neighbourhood House
X-ORIGINAL-URL:https://rsnh.org.au
X-WR-CALDESC:Events for Reynard Street Neighbourhood House
BEGIN:VTIMEZONE
TZID:"UTC"
BEGIN:STANDARD
TZOFFSETFROM:+0000
TZOFFSETTO:+0000
TZNAME:UTC
DTSTART:20180101T000000
END:STANDARD
END:VTIMEZONE
BEGIN:VEVENT
DTSTART;VALUE=DATE:20180508
DTEND;VALUE=DATE:20180509
DTSTAMP:20210228T132154
CREATED:20180404T033442Z
LAST-MODIFIED:20180404T033442Z
UID:609-1525737600-1525823999@rsnh.org.au
SUMMARY:Mother's Day Raffle
DESCRIPTION:Mother’s Day raffle drawn. Make sure you buy a ticket to one one of our lovely pamper prizes \n(Visited 52 times\, 1 visits today)
URL:https://rsnh.org.au/event/mothers-day-raffle/
ATTACH;FMTTYPE=image/jpeg:https://rsnh.org.au/wp-content/uploads/2018/04/MAY8-EVENT.jpg
END:VEVENT
END:VCALENDAR