BEGIN:VCALENDAR
VERSION:2.0
PRODID:-//Reynard Street Neighbourhood House - ECPv4.9.6//NONSGML v1.0//EN
CALSCALE:GREGORIAN
METHOD:PUBLISH
X-WR-CALNAME:Reynard Street Neighbourhood House
X-ORIGINAL-URL:https://rsnh.org.au
X-WR-CALDESC:Events for Reynard Street Neighbourhood House
BEGIN:VTIMEZONE
TZID:"UTC"
BEGIN:STANDARD
TZOFFSETFROM:+0000
TZOFFSETTO:+0000
TZNAME:UTC
DTSTART:20180101T000000
END:STANDARD
END:VTIMEZONE
BEGIN:VEVENT
DTSTART;TZID="UTC":20180504T100000
DTEND;TZID="UTC":20180504T110000
DTSTAMP:20210228T134341
CREATED:20180404T033659Z
LAST-MODIFIED:20180404T033659Z
UID:612-1525428000-1525431600@rsnh.org.au
SUMMARY:Love Your Neighbourhood Walk
DESCRIPTION:To celebrate Neighbourhood House week. Meet at West Coburg Anglican Church and take a discovery walk along Reynard St. Finish at our Neighbourhood House where a morning tea and launch of our new website will be celebrated at 11am \n(Visited 64 times\, 1 visits today)
URL:https://rsnh.org.au/event/love-your-neighbourhood-walk/
LOCATION:Reynard Street Community House\, 104A Reynard St\, Coburg\, Victoria\, 3058\, Australia
ATTACH;FMTTYPE=image/jpeg:https://rsnh.org.au/wp-content/uploads/2018/04/MAY4-EVENT.jpg
END:VEVENT
END:VCALENDAR