BEGIN:VCALENDAR
VERSION:2.0
PRODID:-//Reynard Street Neighbourhood House - ECPv4.9.6//NONSGML v1.0//EN
CALSCALE:GREGORIAN
METHOD:PUBLISH
X-WR-CALNAME:Reynard Street Neighbourhood House
X-ORIGINAL-URL:https://rsnh.org.au
X-WR-CALDESC:Events for Reynard Street Neighbourhood House
BEGIN:VTIMEZONE
TZID:"UTC"
BEGIN:STANDARD
TZOFFSETFROM:+0000
TZOFFSETTO:+0000
TZNAME:UTC
DTSTART:20180101T000000
END:STANDARD
END:VTIMEZONE
BEGIN:VEVENT
DTSTART;TZID="UTC":20180526T120000
DTEND;TZID="UTC":20180526T150000
DTSTAMP:20210228T132229
CREATED:20180404T033914Z
LAST-MODIFIED:20180404T033927Z
UID:617-1527336000-1527346800@rsnh.org.au
SUMMARY:Kaleidoscope Art Workshop
DESCRIPTION:Rainbow art projects for colourful kids. Create colour art using different mediums. \nAge – 2-12 \n(Visited 279 times\, 1 visits today)
URL:https://rsnh.org.au/event/kaleidoscope-art-workshop/
ATTACH;FMTTYPE=image/jpeg:https://rsnh.org.au/wp-content/uploads/2018/04/MAY26-EVENT.jpg
END:VEVENT
END:VCALENDAR