BEGIN:VCALENDAR
VERSION:2.0
PRODID:-//Reynard Street Neighbourhood House - ECPv4.9.6//NONSGML v1.0//EN
CALSCALE:GREGORIAN
METHOD:PUBLISH
X-WR-CALNAME:Reynard Street Neighbourhood House
X-ORIGINAL-URL:https://rsnh.org.au
X-WR-CALDESC:Events for Reynard Street Neighbourhood House
BEGIN:VTIMEZONE
TZID:"UTC"
BEGIN:STANDARD
TZOFFSETFROM:+0000
TZOFFSETTO:+0000
TZNAME:UTC
DTSTART:20180101T000000
END:STANDARD
END:VTIMEZONE
BEGIN:VEVENT
DTSTART;TZID="UTC":20180810T130000
DTEND;TZID="UTC":20180810T160000
DTSTAMP:20210228T130213
CREATED:20180724T043717Z
LAST-MODIFIED:20180724T043717Z
UID:1081-1533906000-1533916800@rsnh.org.au
SUMMARY:How to Make a Permaculture Herb Spiral
DESCRIPTION:Come along to our community garden and learn some new tips and tricks to use in your garden. \nIn this workshop we will be learning to make a Permaculture Herb Spiral in our community garden! \nLearn how to make a little ecosystem that will grow\, feed\, and sustain itself. \n  \nHow to Book In\nThis session is $20 per person \nTo secure a spot feel free to call on (03) 9386 7128\, email to admin@rsnh.org.au\, or stop by the house. \n(Visited 107 times\, 1 visits today)
URL:https://rsnh.org.au/event/how-to-make-a-permaculture-herb-spiral/
ATTACH;FMTTYPE=image/jpeg:https://rsnh.org.au/wp-content/uploads/2018/07/20180702_112150.jpg
END:VEVENT
END:VCALENDAR