BEGIN:VCALENDAR
VERSION:2.0
PRODID:-//Reynard Street Neighbourhood House - ECPv4.9.6//NONSGML v1.0//EN
CALSCALE:GREGORIAN
METHOD:PUBLISH
X-WR-CALNAME:Reynard Street Neighbourhood House
X-ORIGINAL-URL:https://rsnh.org.au
X-WR-CALDESC:Events for Reynard Street Neighbourhood House
BEGIN:VTIMEZONE
TZID:"UTC"
BEGIN:STANDARD
TZOFFSETFROM:+0000
TZOFFSETTO:+0000
TZNAME:UTC
DTSTART:20190101T000000
END:STANDARD
END:VTIMEZONE
BEGIN:VEVENT
DTSTART;TZID="UTC":20190404T133000
DTEND;TZID="UTC":20190404T143000
DTSTAMP:20210228T125027
CREATED:20190320T045943Z
LAST-MODIFIED:20190320T045943Z
UID:1445-1554384600-1554388200@rsnh.org.au
SUMMARY:Free Belly Dancing for Active April
DESCRIPTION:In Active April we want to encourage everyone to get up and get moving. Come along and see what RSNH has to offer and try something new at the same time. \nHave you ever wanted to try Belly Dancing? Come along and try our community belly dancing class for beginners! Little to no experience required. Come and have some fun in a supportive environment. \nAll new participants are welcome to come and try for FREE. \n(Visited 46 times\, 1 visits today)
URL:https://rsnh.org.au/event/free-belly-dancing-for-active-april/
LOCATION:Reynard Street Community House\, 104A Reynard St\, Coburg\, Victoria\, 3058\, Australia
ATTACH;FMTTYPE=image/jpeg:https://rsnh.org.au/wp-content/uploads/2019/03/open-day-74.jpg
ORGANIZER;CN="Reynard%20Street%20Neighbourhood%20House":MAILTO:admin@rsnh.org.au
END:VEVENT
END:VCALENDAR