BEGIN:VCALENDAR
VERSION:2.0
PRODID:-//Reynard Street Neighbourhood House - ECPv4.9.6//NONSGML v1.0//EN
CALSCALE:GREGORIAN
METHOD:PUBLISH
X-WR-CALNAME:Reynard Street Neighbourhood House
X-ORIGINAL-URL:https://rsnh.org.au
X-WR-CALDESC:Events for Reynard Street Neighbourhood House
BEGIN:VTIMEZONE
TZID:"UTC"
BEGIN:STANDARD
TZOFFSETFROM:+0000
TZOFFSETTO:+0000
TZNAME:UTC
DTSTART:20190101T000000
END:STANDARD
END:VTIMEZONE
BEGIN:VEVENT
DTSTART;TZID="UTC":20190213T090000
DTEND;TZID="UTC":20190213T150000
DTSTAMP:20210226T154855
CREATED:20190129T024632Z
LAST-MODIFIED:20190129T024806Z
UID:1246-1550048400-1550070000@rsnh.org.au
SUMMARY:First Aid Level 2 and CPR
DESCRIPTION:This training course will give you the skills and knowledge required to provide First Aid response in the home\, workplace or within the community. \nBookings required! See our Facebook page for more information. \nCall: 9386 7128 \nEmail: admin@rsnh.org.au \nVisit: 104A Reynard Street\, Coburg \n(Visited 672 times\, 1 visits today)
URL:https://rsnh.org.au/event/first-aid-level-2-and-cpr/
LOCATION:Reynard Street Community House\, 104A Reynard St\, Coburg\, Victoria\, 3058\, Australia
ATTACH;FMTTYPE=image/jpeg:https://rsnh.org.au/wp-content/uploads/2019/01/first-aid.jpg
ORGANIZER;CN="Reynard%20Street%20Neighbourhood%20House":MAILTO:admin@rsnh.org.au
END:VEVENT
END:VCALENDAR