BEGIN:VCALENDAR
VERSION:2.0
PRODID:-//Reynard Street Neighbourhood House - ECPv4.9.6//NONSGML v1.0//EN
CALSCALE:GREGORIAN
METHOD:PUBLISH
X-WR-CALNAME:Reynard Street Neighbourhood House
X-ORIGINAL-URL:https://rsnh.org.au
X-WR-CALDESC:Events for Reynard Street Neighbourhood House
BEGIN:VTIMEZONE
TZID:"UTC"
BEGIN:STANDARD
TZOFFSETFROM:+0000
TZOFFSETTO:+0000
TZNAME:UTC
DTSTART:20190101T000000
END:STANDARD
END:VTIMEZONE
BEGIN:VEVENT
DTSTART;TZID="UTC":20190830T123000
DTEND;TZID="UTC":20190830T140000
DTSTAMP:20210226T152926
CREATED:20190129T040745Z
LAST-MODIFIED:20190730T005944Z
UID:1274-1567168200-1567173600@rsnh.org.au
SUMMARY:Community Lunch at RSNH
DESCRIPTION:Reynard Street Neighbourhood House is hosting Community Lunches every Friday this term!\nCome and join us for FREE lunch. Through our partners\, Open Table and Correctional Services\, rescued and surplus food is used to make a delicious and healthy feast for everyone to enjoy. \nVisit our Facebook page for more information. \nCall: 9386 7128 \nEmail: admin@rsnh.org.au \nVisit: 104A Reynard Street\, Coburg \n(Visited 115 times\, 1 visits today)
URL:https://rsnh.org.au/event/community-lunch-at-rsnh-7/
LOCATION:Reynard Street Community House\, 104A Reynard St\, Coburg\, Victoria\, 3058\, Australia
ATTACH;FMTTYPE=image/jpeg:https://rsnh.org.au/wp-content/uploads/2019/01/20181115_104650.jpg
ORGANIZER;CN="Reynard%20Street%20Neighbourhood%20House":MAILTO:admin@rsnh.org.au
END:VEVENT
END:VCALENDAR