BEGIN:VCALENDAR
VERSION:2.0
PRODID:-//Reynard Street Neighbourhood House - ECPv4.9.6//NONSGML v1.0//EN
CALSCALE:GREGORIAN
METHOD:PUBLISH
X-WR-CALNAME:Reynard Street Neighbourhood House
X-ORIGINAL-URL:https://rsnh.org.au
X-WR-CALDESC:Events for Reynard Street Neighbourhood House
BEGIN:VTIMEZONE
TZID:"UTC"
BEGIN:STANDARD
TZOFFSETFROM:+0000
TZOFFSETTO:+0000
TZNAME:UTC
DTSTART:20180101T000000
END:STANDARD
END:VTIMEZONE
BEGIN:VEVENT
DTSTART;TZID="UTC":20180324T090000
DTEND;TZID="UTC":20180324T160000
DTSTAMP:20210228T134149
CREATED:20180316T060354Z
LAST-MODIFIED:20180316T060354Z
UID:460-1521882000-1521907200@rsnh.org.au
SUMMARY:Bunnings BBQ Fundraiser
DESCRIPTION:We will be cooking up some snags at Coburg Bunnings to raise money for our community and sensory gardens. \n(Visited 63 times\, 1 visits today)
URL:https://rsnh.org.au/event/bunnings-bbq-fundraiser/
END:VEVENT
END:VCALENDAR